BEGIN:VCALENDAR
PRODID:-//eluceo/ical//2.0/EN
VERSION:2.0
CALSCALE:GREGORIAN
BEGIN:VEVENT
UID:17a9c8ed-a211-5765-87fe-b4237987fe00
DTSTAMP:20250715T114412Z
SUMMARY:Завершены госиспытания двигателя АИ
 -12Р разработки ОКБ-478 (ныне ГП "Ивченко-Пр
 огресс") для самолётов Як-12\, Як-18\, Ан-14
DESCRIPTION:https://aviafan.ru/articles/zaversheny-gosispytaniya-pd-ai-12r-
 razrabotki-okb-478-nyne-gp-ivchenko-progress-dlya-samolyotov-yak-12-yak-18
 -an-14
URL:https://aviafan.ru/articles/zaversheny-gosispytaniya-pd-ai-12r-razrabot
 ki-okb-478-nyne-gp-ivchenko-progress-dlya-samolyotov-yak-12-yak-18-an-14
DTSTART;VALUE=DATE:19501203
RRULE:FREQ=YEARLY
FBTYPE:FREE
END:VEVENT
END:VCALENDAR
