BEGIN:VCALENDAR
PRODID:-//eluceo/ical//2.0/EN
VERSION:2.0
CALSCALE:GREGORIAN
BEGIN:VEVENT
UID:f8272a01-f52b-5456-90f7-f8c84107e69a
DTSTAMP:20250904T182911Z
SUMMARY:Запуск первого ИСЗ "Метеор-3" - КА трет
 ьего поколения для системы гидрометеоро
 логического обеспечения страны (СНИИЭМ)
DESCRIPTION:https://aviafan.ru/articles/zapusk-pervogo-isz-meteor-3-ka-tret
 ego-pokoleniya-dlya-sistemy-gidrometeorologicheskogo-obespecheniya-strany-
 sniiem
URL:https://aviafan.ru/articles/zapusk-pervogo-isz-meteor-3-ka-tretego-poko
 leniya-dlya-sistemy-gidrometeorologicheskogo-obespecheniya-strany-sniiem
DTSTART;VALUE=DATE:19841127
RRULE:FREQ=YEARLY
FBTYPE:FREE
END:VEVENT
END:VCALENDAR
