BEGIN:VCALENDAR
PRODID:-//eluceo/ical//2.0/EN
VERSION:2.0
CALSCALE:GREGORIAN
BEGIN:VEVENT
UID:f631a541-b893-54cc-8065-3ce5b97ec596
DTSTAMP:20250904T183602Z
SUMMARY:Запуск космического корабля "Союз Т-3
 "\, Леонид Кизим\, Олег Макаров и Геннадий 
 Стрекалов (ЭП на ОС"Салют-6")
DESCRIPTION:https://aviafan.ru/articles/zapusk-kosmicheskogo-korablya-soyuz
 -t-3-leonid-kizim-oleg-makarov-i-gennadij-strekalov-ep-na-ossalyut-6
URL:https://aviafan.ru/articles/zapusk-kosmicheskogo-korablya-soyuz-t-3-leo
 nid-kizim-oleg-makarov-i-gennadij-strekalov-ep-na-ossalyut-6
DTSTART;VALUE=DATE:19801127
RRULE:FREQ=YEARLY
FBTYPE:FREE
END:VEVENT
END:VCALENDAR
