BEGIN:VCALENDAR
PRODID:-//eluceo/ical//2.0/EN
VERSION:2.0
CALSCALE:GREGORIAN
BEGIN:VEVENT
UID:a96d6ddf-6b54-5a07-b0ed-9740d1f9653d
DTSTAMP:20260420T063807Z
SUMMARY:Запущена система автоматизированно
 го бронирования и продажи билетов "Сирен
 а"
DESCRIPTION:https://aviafan.ru/articles/zapushena-sistema-avtomatizirovanno
 go-bronirovaniya-i-prodazhi-biletov-sirena
URL:https://aviafan.ru/articles/zapushena-sistema-avtomatizirovannogo-broni
 rovaniya-i-prodazhi-biletov-sirena
DTSTART;VALUE=DATE:19720420
RRULE:FREQ=YEARLY
FBTYPE:FREE
END:VEVENT
END:VCALENDAR
