BEGIN:VCALENDAR
PRODID:-//eluceo/ical//2.0/EN
VERSION:2.0
CALSCALE:GREGORIAN
BEGIN:VEVENT
UID:a77c4339-fcea-5da6-99fd-70156c520959
DTSTAMP:20260422T073817Z
SUMMARY:Запущен на орбиту беспилотный косми
 ческий минишаттл Х-37В
DESCRIPTION:https://aviafan.ru/articles/zapushen-na-orbitu-bespilotnyj-kosm
 icheskij-minishattl-h-37v
URL:https://aviafan.ru/articles/zapushen-na-orbitu-bespilotnyj-kosmicheskij
 -minishattl-h-37v
DTSTART;VALUE=DATE:20100422
RRULE:FREQ=YEARLY
FBTYPE:FREE
END:VEVENT
END:VCALENDAR
