BEGIN:VCALENDAR
PRODID:-//eluceo/ical//2.0/EN
VERSION:2.0
CALSCALE:GREGORIAN
BEGIN:VEVENT
UID:fabdb360-14cf-53da-8039-6253f3df0c1c
DTSTAMP:20260421T082829Z
SUMMARY:Заложен первый камень в строительст
 во нового терминала аэропорта Ижевск
DESCRIPTION:https://aviafan.ru/articles/zalozhen-pervyj-kamen-v-stroitelstv
 o-novogo-terminala-aeroporta-izhevsk
URL:https://aviafan.ru/articles/zalozhen-pervyj-kamen-v-stroitelstvo-novogo
 -terminala-aeroporta-izhevsk
DTSTART;VALUE=DATE:20220822
RRULE:FREQ=YEARLY
FBTYPE:FREE
END:VEVENT
END:VCALENDAR
