BEGIN:VCALENDAR
PRODID:-//eluceo/ical//2.0/EN
VERSION:2.0
CALSCALE:GREGORIAN
BEGIN:VEVENT
UID:1ded1ae2-56bd-5c94-aa81-233125b14997
DTSTAMP:20260421T084843Z
SUMMARY:Выпущен приказ начальника Главного 
 Управления гражданского воздушного фло
 та об организации аэропорта в городе Иже
 вск
DESCRIPTION:https://aviafan.ru/articles/vypushen-prikaz-nachalnika-glavnogo
 -upravleniya-grazhdanskogo-vozdushnogo-flota-ob-organizacii-aeroporta-v-go
 rode-izhevsk
URL:https://aviafan.ru/articles/vypushen-prikaz-nachalnika-glavnogo-upravle
 niya-grazhdanskogo-vozdushnogo-flota-ob-organizacii-aeroporta-v-gorode-izh
 evsk
DTSTART;VALUE=DATE:19440530
RRULE:FREQ=YEARLY
FBTYPE:FREE
END:VEVENT
END:VCALENDAR
