BEGIN:VCALENDAR
PRODID:-//eluceo/ical//2.0/EN
VERSION:2.0
CALSCALE:GREGORIAN
BEGIN:VEVENT
UID:05600f28-af4e-5204-8243-a117dfc926d2
DTSTAMP:20260421T085623Z
SUMMARY:Выкатка Sud Aviation SE 210 Caravelle
DESCRIPTION:https://aviafan.ru/articles/vykatka-sud-aviation-se-210-caravel
 le
URL:https://aviafan.ru/articles/vykatka-sud-aviation-se-210-caravelle
DTSTART;VALUE=DATE:19550421
RRULE:FREQ=YEARLY
FBTYPE:FREE
END:VEVENT
END:VCALENDAR
