BEGIN:VCALENDAR
PRODID:-//eluceo/ical//2.0/EN
VERSION:2.0
CALSCALE:GREGORIAN
BEGIN:VEVENT
UID:01a5fcd6-c080-57d0-b85c-3c7affb83e37
DTSTAMP:20250902T114005Z
SUMMARY:Впервые воздушным путём достигнут Ю
 жный полюс
DESCRIPTION:https://aviafan.ru/articles/vpervye-vozdushnym-putyom-dostignut
 -yuzhnyj-polyus
URL:https://aviafan.ru/articles/vpervye-vozdushnym-putyom-dostignut-yuzhnyj
 -polyus
DTSTART;VALUE=DATE:19281129
RRULE:FREQ=YEARLY
FBTYPE:FREE
END:VEVENT
END:VCALENDAR
