BEGIN:VCALENDAR
PRODID:-//eluceo/ical//2.0/EN
VERSION:2.0
CALSCALE:GREGORIAN
BEGIN:VEVENT
UID:f4fe1837-7496-5b2c-8ad6-37c1ed2bccb4
DTSTAMP:20250905T145030Z
SUMMARY:Виктор Писаренко выполнил первый по
 лет на своей авиетке ВОП-1
DESCRIPTION:https://aviafan.ru/articles/viktor-pisarenko-vypolnil-pervyj-po
 let-na-svoej-avietke-vop-1
URL:https://aviafan.ru/articles/viktor-pisarenko-vypolnil-pervyj-polet-na-s
 voej-avietke-vop-1
DTSTART;VALUE=DATE:19231127
RRULE:FREQ=YEARLY
FBTYPE:FREE
END:VEVENT
END:VCALENDAR
