BEGIN:VCALENDAR
PRODID:-//eluceo/ical//2.0/EN
VERSION:2.0
CALSCALE:GREGORIAN
BEGIN:VEVENT
UID:c7d0d99f-d40b-534f-91b0-f7630694a84e
DTSTAMP:20260422T071329Z
SUMMARY:В построенный аэропорт Мурманск вып
 олнен технический рейс с членами комисс
 ии
DESCRIPTION:https://aviafan.ru/articles/v-postroennyj-aeroport-murmansk-vyp
 olnen-tehnicheskij-rejs-s-chlenami-komissii
URL:https://aviafan.ru/articles/v-postroennyj-aeroport-murmansk-vypolnen-te
 hnicheskij-rejs-s-chlenami-komissii
DTSTART;VALUE=DATE:19760705
RRULE:FREQ=YEARLY
FBTYPE:FREE
END:VEVENT
END:VCALENDAR
