BEGIN:VCALENDAR
PRODID:-//eluceo/ical//2.0/EN
VERSION:2.0
CALSCALE:GREGORIAN
BEGIN:VEVENT
UID:4c81bbe3-abbb-58a0-ae63-5758d0bfbb79
DTSTAMP:20250829T094258Z
SUMMARY:В ноябре завершены испытания двигат
 еля АМ-3 ОКБ Александра Микулина для Ту-16
DESCRIPTION:https://aviafan.ru/articles/v-noyabre-zaversheny-ispytaniya-dvi
 gatelya-am-3-okb-aleksandra-mikulina-dlya-tu-16
URL:https://aviafan.ru/articles/v-noyabre-zaversheny-ispytaniya-dvigatelya-
 am-3-okb-aleksandra-mikulina-dlya-tu-16
DTSTART;VALUE=DATE:19521129
RRULE:FREQ=YEARLY
FBTYPE:FREE
END:VEVENT
END:VCALENDAR
