BEGIN:VCALENDAR
PRODID:-//eluceo/ical//2.0/EN
VERSION:2.0
CALSCALE:GREGORIAN
BEGIN:VEVENT
UID:7f9c2fe6-deaf-53a9-88c2-cddea1d55410
DTSTAMP:20250904T114349Z
SUMMARY:В ноябре УМПО начат серийный выпуск 
 двигателя Р-195 для Су-25
DESCRIPTION:https://aviafan.ru/articles/v-noyabre-umpo-nachat-serijnyj-vypu
 sk-dvigatelya-r-195-dlya-su-25
URL:https://aviafan.ru/articles/v-noyabre-umpo-nachat-serijnyj-vypusk-dviga
 telya-r-195-dlya-su-25
DTSTART;VALUE=DATE:19881127
RRULE:FREQ=YEARLY
FBTYPE:FREE
END:VEVENT
END:VCALENDAR
