BEGIN:VCALENDAR
PRODID:-//eluceo/ical//2.0/EN
VERSION:2.0
CALSCALE:GREGORIAN
BEGIN:VEVENT
UID:30a4616a-e724-5e2b-849e-768e6e808414
DTSTAMP:20260419T100519Z
SUMMARY:В аэропорту Минеральные Воды открыт 
 пассажирский терминал
DESCRIPTION:https://aviafan.ru/articles/v-aeroportu-mineralnye-vody-otkryt-
 passazhirskij-terminal
URL:https://aviafan.ru/articles/v-aeroportu-mineralnye-vody-otkryt-passazhi
 rskij-terminal
DTSTART;VALUE=DATE:20250514
RRULE:FREQ=YEARLY
FBTYPE:FREE
END:VEVENT
END:VCALENDAR
