BEGIN:VCALENDAR
PRODID:-//eluceo/ical//2.0/EN
VERSION:2.0
CALSCALE:GREGORIAN
BEGIN:VEVENT
UID:fe2bc8c5-53d6-5cdf-a63e-9775232085b9
DTSTAMP:20260419T094509Z
SUMMARY:В аэропорту Благовещенск введен в эк
 сплуатацию новый аэровокзальный компле
 кс
DESCRIPTION:https://aviafan.ru/articles/v-aeroportu-blagoveshensk-vveden-v-
 ekspluataciyu-novyj-aerovokzalnyj-kompleks
URL:https://aviafan.ru/articles/v-aeroportu-blagoveshensk-vveden-v-ekspluat
 aciyu-novyj-aerovokzalnyj-kompleks
DTSTART;VALUE=DATE:20260331
RRULE:FREQ=YEARLY
FBTYPE:FREE
END:VEVENT
END:VCALENDAR
