BEGIN:VCALENDAR
PRODID:-//eluceo/ical//2.0/EN
VERSION:2.0
CALSCALE:GREGORIAN
BEGIN:VEVENT
UID:07d54578-8325-5edc-acb8-6d8eeb908310
DTSTAMP:20260419T104050Z
SUMMARY:Ушёл из жизни лётчик-истребитель Шар
 даков Игорь Александрович
DESCRIPTION:https://aviafan.ru/articles/ushyol-iz-zhizni-lyotchik-istrebite
 l-shardakov-igor-aleksandrovich
URL:https://aviafan.ru/articles/ushyol-iz-zhizni-lyotchik-istrebitel-sharda
 kov-igor-aleksandrovich
DTSTART;VALUE=DATE:19820802
RRULE:FREQ=YEARLY
FBTYPE:FREE
END:VEVENT
END:VCALENDAR
