BEGIN:VCALENDAR
PRODID:-//eluceo/ical//2.0/EN
VERSION:2.0
CALSCALE:GREGORIAN
BEGIN:VEVENT
UID:563f23cb-f1c9-5599-88b0-e147b60c00e9
DTSTAMP:20250905T115751Z
SUMMARY:СЗ-3 "Иванов" с мотором М-88 передан на 
 государственные испытания
DESCRIPTION:https://aviafan.ru/articles/sz-3-ivanov-s-motorom-m-88-peredan-
 na-gosudarstvennye-ispytaniya
URL:https://aviafan.ru/articles/sz-3-ivanov-s-motorom-m-88-peredan-na-gosud
 arstvennye-ispytaniya
DTSTART;VALUE=DATE:19391127
RRULE:FREQ=YEARLY
FBTYPE:FREE
END:VEVENT
END:VCALENDAR
