BEGIN:VCALENDAR
PRODID:-//eluceo/ical//2.0/EN
VERSION:2.0
CALSCALE:GREGORIAN
BEGIN:VEVENT
UID:5e63d290-0e7d-511c-aea1-6738ebff7351
DTSTAMP:20241013T173540Z
SUMMARY:Старт КА "Прогресс" с модулем "Поиск" (
 МИМ-2) для МКС\, четвёртым модулем российс
 кого сегмента МКС. Пристыковался 12.11.2009
DESCRIPTION:https://aviafan.ru/articles/start-ka-progress-s-modulem-poisk-m
 im-2-dlya-mks-chetvyortym-modulem-rossijskogo-segmenta-mks-pristykovalsya-
 12112009
URL:https://aviafan.ru/articles/start-ka-progress-s-modulem-poisk-mim-2-dly
 a-mks-chetvyortym-modulem-rossijskogo-segmenta-mks-pristykovalsya-12112009
DTSTART;VALUE=DATE:20091110
RRULE:FREQ=YEARLY
FBTYPE:FREE
END:VEVENT
END:VCALENDAR
