BEGIN:VCALENDAR
PRODID:-//eluceo/ical//2.0/EN
VERSION:2.0
CALSCALE:GREGORIAN
BEGIN:VEVENT
UID:4cf222cd-08b4-564f-a1fb-ae9075dd2247
DTSTAMP:20250903T110718Z
SUMMARY:Создана Воздухоплавательная служба 
 ВВС (Управление воздухоплавания ГАУ рас
 формировано)
DESCRIPTION:https://aviafan.ru/articles/sozdana-vozduhoplavatelnaya-sluzhba
 -vvs-upravlenie-vozduhoplavaniya-gau-rasformirovano
URL:https://aviafan.ru/articles/sozdana-vozduhoplavatelnaya-sluzhba-vvs-upr
 avlenie-vozduhoplavaniya-gau-rasformirovano
DTSTART;VALUE=DATE:19561128
RRULE:FREQ=YEARLY
FBTYPE:FREE
END:VEVENT
END:VCALENDAR
