BEGIN:VCALENDAR
PRODID:-//eluceo/ical//2.0/EN
VERSION:2.0
CALSCALE:GREGORIAN
BEGIN:VEVENT
UID:e104d64a-884a-5ca5-acd4-ee3fdffba10b
DTSTAMP:20250904T185643Z
SUMMARY:Советская космическая станция "Марс-
 2" достигает планеты
DESCRIPTION:https://aviafan.ru/articles/sovetskaya-kosmicheskaya-stanciya-m
 ars-2-dostigaet-planety
URL:https://aviafan.ru/articles/sovetskaya-kosmicheskaya-stanciya-mars-2-do
 stigaet-planety
DTSTART;VALUE=DATE:19711127
RRULE:FREQ=YEARLY
FBTYPE:FREE
END:VEVENT
END:VCALENDAR
