BEGIN:VCALENDAR
PRODID:-//eluceo/ical//2.0/EN
VERSION:2.0
CALSCALE:GREGORIAN
BEGIN:VEVENT
UID:cf864e69-7a48-5827-a696-7b9031479089
DTSTAMP:20260422T071755Z
SUMMARY:Состоялось торжественное открытие а
 эропорта «Мурманск»
DESCRIPTION:https://aviafan.ru/articles/sostoyalos-torzhestvennoe-otkrytie-
 aeroporta-murmansk
URL:https://aviafan.ru/articles/sostoyalos-torzhestvennoe-otkrytie-aeroport
 a-murmansk
DTSTART;VALUE=DATE:19790721
RRULE:FREQ=YEARLY
FBTYPE:FREE
END:VEVENT
END:VCALENDAR
