BEGIN:VCALENDAR
PRODID:-//eluceo/ical//2.0/EN
VERSION:2.0
CALSCALE:GREGORIAN
BEGIN:VEVENT
UID:a83c0dcf-140c-5a36-99ad-09a88c73fa75
DTSTAMP:20260421T085005Z
SUMMARY:Сдан в эксплуатацию аэропорт в район
 е деревни Старые Мартьяны (город Ижевск)
DESCRIPTION:https://aviafan.ru/articles/sdan-v-ekspluataciyu-aeroport-v-raj
 one-derevni-starye-martyany
URL:https://aviafan.ru/articles/sdan-v-ekspluataciyu-aeroport-v-rajone-dere
 vni-starye-martyany
DTSTART;VALUE=DATE:19741025
RRULE:FREQ=YEARLY
FBTYPE:FREE
END:VEVENT
END:VCALENDAR
