BEGIN:VCALENDAR
PRODID:-//eluceo/ical//2.0/EN
VERSION:2.0
CALSCALE:GREGORIAN
BEGIN:VEVENT
UID:673a0373-30aa-56ee-b927-35d1d6e07c49
DTSTAMP:20250905T123603Z
SUMMARY:Родился Юрий Кузнецов\, военно-морск
 ой лётчик
DESCRIPTION:https://aviafan.ru/articles/rodilsya-yurij-kuznecov-voenno-mors
 koj-lyotchik
URL:https://aviafan.ru/articles/rodilsya-yurij-kuznecov-voenno-morskoj-lyot
 chik
DTSTART;VALUE=DATE:19271127
RRULE:FREQ=YEARLY
FBTYPE:FREE
END:VEVENT
END:VCALENDAR
