BEGIN:VCALENDAR
PRODID:-//eluceo/ical//2.0/EN
VERSION:2.0
CALSCALE:GREGORIAN
BEGIN:VEVENT
UID:18f66b4a-b368-593a-8538-c5bb4e5b8573
DTSTAMP:20250902T112158Z
SUMMARY:Родился Вячеслав Венедиктов\, бортин
 женер-испытатель
DESCRIPTION:https://aviafan.ru/articles/rodilsya-vyacheslav-venediktov-bort
 inzhener-ispytatel
URL:https://aviafan.ru/articles/rodilsya-vyacheslav-venediktov-bortinzhener
 -ispytatel
DTSTART;VALUE=DATE:19351129
RRULE:FREQ=YEARLY
FBTYPE:FREE
END:VEVENT
END:VCALENDAR
