BEGIN:VCALENDAR
PRODID:-//eluceo/ical//2.0/EN
VERSION:2.0
CALSCALE:GREGORIAN
BEGIN:VEVENT
UID:cfd48926-806e-5754-a04b-916698a235ed
DTSTAMP:20260422T073924Z
SUMMARY:Родился воздухоплаватель Стив Фоссе
 т
DESCRIPTION:https://aviafan.ru/articles/rodilsya-vozduhoplavatel-stiv-fosse
 t
URL:https://aviafan.ru/articles/rodilsya-vozduhoplavatel-stiv-fosset
DTSTART;VALUE=DATE:19440422
RRULE:FREQ=YEARLY
FBTYPE:FREE
END:VEVENT
END:VCALENDAR
