BEGIN:VCALENDAR
PRODID:-//eluceo/ical//2.0/EN
VERSION:2.0
CALSCALE:GREGORIAN
BEGIN:VEVENT
UID:ea7fb0cc-188c-583d-90f7-8c9c870d154a
DTSTAMP:20260419T102044Z
SUMMARY:Родился заслуженный военный лётчик (
 вертолётчик) Райлян Александр Максимови
 ч
DESCRIPTION:https://aviafan.ru/articles/rodilsya-voennyj-lyotchik-vertolyot
 chik-rajlyan-aleksandr-maksimovich
URL:https://aviafan.ru/articles/rodilsya-voennyj-lyotchik-vertolyotchik-raj
 lyan-aleksandr-maksimovich
DTSTART;VALUE=DATE:19540419
RRULE:FREQ=YEARLY
FBTYPE:FREE
END:VEVENT
END:VCALENDAR
