BEGIN:VCALENDAR
PRODID:-//eluceo/ical//2.0/EN
VERSION:2.0
CALSCALE:GREGORIAN
BEGIN:VEVENT
UID:a46ea82f-441c-5c7f-acbe-7a65334f2e8b
DTSTAMP:20260422T074216Z
SUMMARY:Родился военный летчик В.Ф. Башкиров
DESCRIPTION:https://aviafan.ru/articles/rodilsya-voennyj-letchik-vf-bashkir
 ov
URL:https://aviafan.ru/articles/rodilsya-voennyj-letchik-vf-bashkirov
DTSTART;VALUE=DATE:19150422
RRULE:FREQ=YEARLY
FBTYPE:FREE
END:VEVENT
END:VCALENDAR
