BEGIN:VCALENDAR
PRODID:-//eluceo/ical//2.0/EN
VERSION:2.0
CALSCALE:GREGORIAN
BEGIN:VEVENT
UID:293261a5-6395-5f34-ad22-ff1b3e4dfcdf
DTSTAMP:20260419T104555Z
SUMMARY:Родился военный летчик Мироненко Ал
 ександр Алексеевич
DESCRIPTION:https://aviafan.ru/articles/rodilsya-voennyj-letchik-mironenko-
 aleksandr-alekseevich
URL:https://aviafan.ru/articles/rodilsya-voennyj-letchik-mironenko-aleksand
 r-alekseevich
DTSTART;VALUE=DATE:19180419
RRULE:FREQ=YEARLY
FBTYPE:FREE
END:VEVENT
END:VCALENDAR
