BEGIN:VCALENDAR
PRODID:-//eluceo/ical//2.0/EN
VERSION:2.0
CALSCALE:GREGORIAN
BEGIN:VEVENT
UID:a6a35674-b510-5bc8-bae7-8d78c11c912d
DTSTAMP:20250903T111956Z
SUMMARY:Родился военный авиаинженер С.В. Пав
 лов (ДКБА)
DESCRIPTION:https://aviafan.ru/articles/rodilsya-voennyj-aviainzhener-sv-pa
 vlov-dkba
URL:https://aviafan.ru/articles/rodilsya-voennyj-aviainzhener-sv-pavlov-dkb
 a
DTSTART;VALUE=DATE:19511128
RRULE:FREQ=YEARLY
FBTYPE:FREE
END:VEVENT
END:VCALENDAR
