BEGIN:VCALENDAR
PRODID:-//eluceo/ical//2.0/EN
VERSION:2.0
CALSCALE:GREGORIAN
BEGIN:VEVENT
UID:84e68a12-a7ac-5bde-9e70-399b3712b418
DTSTAMP:20250902T105729Z
SUMMARY:Родился Владимир Селезнёв\, гражданс
 кий лётчик
DESCRIPTION:https://aviafan.ru/articles/rodilsya-vladimir-seleznyov-grazhda
 nskij-lyotchik
URL:https://aviafan.ru/articles/rodilsya-vladimir-seleznyov-grazhdanskij-ly
 otchik
DTSTART;VALUE=DATE:19371129
RRULE:FREQ=YEARLY
FBTYPE:FREE
END:VEVENT
END:VCALENDAR
