BEGIN:VCALENDAR
PRODID:-//eluceo/ical//2.0/EN
VERSION:2.0
CALSCALE:GREGORIAN
BEGIN:VEVENT
UID:03a149ed-972e-5d72-a58d-6aca6325b189
DTSTAMP:20250905T114337Z
SUMMARY:Родился Владимир Подобедов\, учёный-
 аэродинамик ("Як")
DESCRIPTION:https://aviafan.ru/articles/rodilsya-vladimir-podobedov-uchyony
 j-aerodinamik-yak
URL:https://aviafan.ru/articles/rodilsya-vladimir-podobedov-uchyonyj-aerodi
 namik-yak
DTSTART;VALUE=DATE:19451127
RRULE:FREQ=YEARLY
FBTYPE:FREE
END:VEVENT
END:VCALENDAR
