BEGIN:VCALENDAR
PRODID:-//eluceo/ical//2.0/EN
VERSION:2.0
CALSCALE:GREGORIAN
BEGIN:VEVENT
UID:a54903a4-5dd1-5f7b-ae2c-6a6cfbc49842
DTSTAMP:20250902T114111Z
SUMMARY:Родился Виктор Костенко\, заслуженны
 й штурман СССР
DESCRIPTION:https://aviafan.ru/articles/rodilsya-viktor-kostenko-zasluzhenn
 yj-shturman-sssr
URL:https://aviafan.ru/articles/rodilsya-viktor-kostenko-zasluzhennyj-shtur
 man-sssr
DTSTART;VALUE=DATE:19221129
RRULE:FREQ=YEARLY
FBTYPE:FREE
END:VEVENT
END:VCALENDAR
