BEGIN:VCALENDAR
PRODID:-//eluceo/ical//2.0/EN
VERSION:2.0
CALSCALE:GREGORIAN
BEGIN:VEVENT
UID:cd951fc4-8eb6-5249-984c-6cdf23796886
DTSTAMP:20250904T104053Z
SUMMARY:Родился Виктор Барковский\, лётчик-и
 стребитель
DESCRIPTION:https://aviafan.ru/articles/rodilsya-viktor-barkovskij-lyotchik
 -istrebitel
URL:https://aviafan.ru/articles/rodilsya-viktor-barkovskij-lyotchik-istrebi
 tel
DTSTART;VALUE=DATE:19191128
RRULE:FREQ=YEARLY
FBTYPE:FREE
END:VEVENT
END:VCALENDAR
