BEGIN:VCALENDAR
PRODID:-//eluceo/ical//2.0/EN
VERSION:2.0
CALSCALE:GREGORIAN
BEGIN:VEVENT
UID:c9eef06d-0007-5284-bb99-8aabed9e4199
DTSTAMP:20250904T104655Z
SUMMARY:Родился Виктор Анисимов\, лётчик-бом
 бардировщик
DESCRIPTION:https://aviafan.ru/articles/rodilsya-viktor-anisimov-lyotchik-b
 ombardirovshik
URL:https://aviafan.ru/articles/rodilsya-viktor-anisimov-lyotchik-bombardir
 ovshik
DTSTART;VALUE=DATE:19121128
RRULE:FREQ=YEARLY
FBTYPE:FREE
END:VEVENT
END:VCALENDAR
