BEGIN:VCALENDAR
PRODID:-//eluceo/ical//2.0/EN
VERSION:2.0
CALSCALE:GREGORIAN
BEGIN:VEVENT
UID:dfebf13a-0c02-51ed-afd3-1cc7da6606db
DTSTAMP:20250904T195356Z
SUMMARY:Родился Виктор Александров\, заслуже
 нный лётчик-испытатель СССР
DESCRIPTION:https://aviafan.ru/articles/rodilsya-viktor-aleksandrov-zasluzh
 ennyj-lyotchik-ispytatel-sssr
URL:https://aviafan.ru/articles/rodilsya-viktor-aleksandrov-zasluzhennyj-ly
 otchik-ispytatel-sssr
DTSTART;VALUE=DATE:19461127
RRULE:FREQ=YEARLY
FBTYPE:FREE
END:VEVENT
END:VCALENDAR
