BEGIN:VCALENDAR
PRODID:-//eluceo/ical//2.0/EN
VERSION:2.0
CALSCALE:GREGORIAN
BEGIN:VEVENT
UID:1b725a23-0e9a-5df1-bf58-10d279739b56
DTSTAMP:20260422T074107Z
SUMMARY:Родился штурман С.И. Василенко
DESCRIPTION:https://aviafan.ru/articles/rodilsya-shturman-si-vasilenko
URL:https://aviafan.ru/articles/rodilsya-shturman-si-vasilenko
DTSTART;VALUE=DATE:19210422
RRULE:FREQ=YEARLY
FBTYPE:FREE
END:VEVENT
END:VCALENDAR
