BEGIN:VCALENDAR
PRODID:-//eluceo/ical//2.0/EN
VERSION:2.0
CALSCALE:GREGORIAN
BEGIN:VEVENT
UID:27d5a93e-4377-5cb4-b217-cb5f3af07354
DTSTAMP:20241003T120553Z
SUMMARY:Родился пионер воздухоплавания и ав
 иационной медицины врач Н.А. Арендт
DESCRIPTION:https://aviafan.ru/articles/rodilsya-pioner-vozduhoplavaniya-i-
 aviacionnoj-mediciny-vrach-na-arendt
URL:https://aviafan.ru/articles/rodilsya-pioner-vozduhoplavaniya-i-aviacion
 noj-mediciny-vrach-na-arendt
DTSTART;VALUE=DATE:20031013
RRULE:FREQ=YEARLY
FBTYPE:FREE
END:VEVENT
END:VCALENDAR
