BEGIN:VCALENDAR
PRODID:-//eluceo/ical//2.0/EN
VERSION:2.0
CALSCALE:GREGORIAN
BEGIN:VEVENT
UID:102b3b10-544d-553b-a6c1-cc182eb454ff
DTSTAMP:20250904T103129Z
SUMMARY:Родился Павел Эхтов\, заслуженный во
 енный лётчик СССР\, генерал-майор авиаци
 и
DESCRIPTION:https://aviafan.ru/articles/rodilsya-pavel-ehtov-zasluzhennyj-v
 oennyj-lyotchik-sssr-general-major-aviacii
URL:https://aviafan.ru/articles/rodilsya-pavel-ehtov-zasluzhennyj-voennyj-l
 yotchik-sssr-general-major-aviacii
DTSTART;VALUE=DATE:19321128
RRULE:FREQ=YEARLY
FBTYPE:FREE
END:VEVENT
END:VCALENDAR
