BEGIN:VCALENDAR
PRODID:-//eluceo/ical//2.0/EN
VERSION:2.0
CALSCALE:GREGORIAN
BEGIN:VEVENT
UID:c8465a06-fb04-5e11-8af1-4149fb86ac4a
DTSTAMP:20250903T115959Z
SUMMARY:Родился Олег Сурков\, руководитель р
 азработки комплекса "НИТКА"
DESCRIPTION:https://aviafan.ru/articles/rodilsya-oleg-surkov-rukovoditel-ra
 zrabotki-kompleksa-nitka
URL:https://aviafan.ru/articles/rodilsya-oleg-surkov-rukovoditel-razrabotki
 -kompleksa-nitka
DTSTART;VALUE=DATE:19341128
RRULE:FREQ=YEARLY
FBTYPE:FREE
END:VEVENT
END:VCALENDAR
