BEGIN:VCALENDAR
PRODID:-//eluceo/ical//2.0/EN
VERSION:2.0
CALSCALE:GREGORIAN
BEGIN:VEVENT
UID:6cf82923-65d3-5863-a316-782cd3cc4195
DTSTAMP:20250829T100829Z
SUMMARY:Родился Николай Тестоедов\, генераль
 ный конструктор (2006-2013) - гендиректор (с 200
 6 г.) АО "Информационные спутниковые сист
 емы"
DESCRIPTION:https://aviafan.ru/articles/rodilsya-nikolaj-testoedov-generaln
 yj-konstruktor-2006-2013-gendirektor-s-2006-g-ao-informacionnye-sputnikovy
 e-sistemy
URL:https://aviafan.ru/articles/rodilsya-nikolaj-testoedov-generalnyj-konst
 ruktor-2006-2013-gendirektor-s-2006-g-ao-informacionnye-sputnikovye-sistem
 y
DTSTART;VALUE=DATE:19511129
RRULE:FREQ=YEARLY
FBTYPE:FREE
END:VEVENT
END:VCALENDAR
