BEGIN:VCALENDAR
PRODID:-//eluceo/ical//2.0/EN
VERSION:2.0
CALSCALE:GREGORIAN
BEGIN:VEVENT
UID:c7c06309-957f-574b-b636-1538a85826f7
DTSTAMP:20250904T194640Z
SUMMARY:Родился Николай Рохлов\, военный лёт
 чик
DESCRIPTION:https://aviafan.ru/articles/rodilsya-nikolaj-rohlov-voennyj-lyo
 tchik
URL:https://aviafan.ru/articles/rodilsya-nikolaj-rohlov-voennyj-lyotchik
DTSTART;VALUE=DATE:19571127
RRULE:FREQ=YEARLY
FBTYPE:FREE
END:VEVENT
END:VCALENDAR
