BEGIN:VCALENDAR
PRODID:-//eluceo/ical//2.0/EN
VERSION:2.0
CALSCALE:GREGORIAN
BEGIN:VEVENT
UID:3375a822-4cc0-52e2-be9e-3c53babbb2f3
DTSTAMP:20250904T103847Z
SUMMARY:Родился Николай Егоров\, летчик-истр
 ебитель
DESCRIPTION:https://aviafan.ru/articles/rodilsya-nikolaj-egorov-letchik-ist
 rebitel
URL:https://aviafan.ru/articles/rodilsya-nikolaj-egorov-letchik-istrebitel
DTSTART;VALUE=DATE:19211128
RRULE:FREQ=YEARLY
FBTYPE:FREE
END:VEVENT
END:VCALENDAR
