BEGIN:VCALENDAR
PRODID:-//eluceo/ical//2.0/EN
VERSION:2.0
CALSCALE:GREGORIAN
BEGIN:VEVENT
UID:f4bb8f3c-1490-5755-9429-1d0c3e9523fa
DTSTAMP:20250902T114710Z
SUMMARY:Родился Михаил Зарецких\, лётчик-шту
 рмовик
DESCRIPTION:https://aviafan.ru/articles/rodilsya-mihail-zareckih-lyotchik-s
 hturmovik
URL:https://aviafan.ru/articles/rodilsya-mihail-zareckih-lyotchik-shturmovi
 k
DTSTART;VALUE=DATE:19201129
RRULE:FREQ=YEARLY
FBTYPE:FREE
END:VEVENT
END:VCALENDAR
