BEGIN:VCALENDAR
PRODID:-//eluceo/ical//2.0/EN
VERSION:2.0
CALSCALE:GREGORIAN
BEGIN:VEVENT
UID:c459510b-c16c-5ddb-8213-0152102e83ad
DTSTAMP:20250903T111355Z
SUMMARY:Родился Михаил Павлов\, конструктор 
 ДКБА
DESCRIPTION:https://aviafan.ru/articles/rodilsya-mihail-pavlov-konstruktor-
 dkba
URL:https://aviafan.ru/articles/rodilsya-mihail-pavlov-konstruktor-dkba
DTSTART;VALUE=DATE:19541128
RRULE:FREQ=YEARLY
FBTYPE:FREE
END:VEVENT
END:VCALENDAR
