BEGIN:VCALENDAR
PRODID:-//eluceo/ical//2.0/EN
VERSION:2.0
CALSCALE:GREGORIAN
BEGIN:VEVENT
UID:2ae737c9-6fa6-5089-9455-04cc4df983c5
DTSTAMP:20250904T104923Z
SUMMARY:Родился Михаил Бондарюк\, конструкто
 р авиадвигателей
DESCRIPTION:https://aviafan.ru/articles/rodilsya-mihail-bondaryuk-konstrukt
 or-aviadvigatelej
URL:https://aviafan.ru/articles/rodilsya-mihail-bondaryuk-konstruktor-aviad
 vigatelej
DTSTART;VALUE=DATE:19081128
RRULE:FREQ=YEARLY
FBTYPE:FREE
END:VEVENT
END:VCALENDAR
