BEGIN:VCALENDAR
PRODID:-//eluceo/ical//2.0/EN
VERSION:2.0
CALSCALE:GREGORIAN
BEGIN:VEVENT
UID:ef2c8784-9587-5645-bb5d-59faf015a29a
DTSTAMP:20250902T184030Z
SUMMARY:Родился Матвей Зотов\, лётчик-истреб
 итель
DESCRIPTION:https://aviafan.ru/articles/rodilsya-matvej-zotov-lyotchik-istr
 ebitel
URL:https://aviafan.ru/articles/rodilsya-matvej-zotov-lyotchik-istrebitel
DTSTART;VALUE=DATE:19141129
RRULE:FREQ=YEARLY
FBTYPE:FREE
END:VEVENT
END:VCALENDAR
