BEGIN:VCALENDAR
PRODID:-//eluceo/ical//2.0/EN
VERSION:2.0
CALSCALE:GREGORIAN
BEGIN:VEVENT
UID:3a16272d-a8ff-58e3-87dd-db43688d61df
DTSTAMP:20260419T102725Z
SUMMARY:Родился летчик-штурмовик Сидякин Ва
 силий Павлович
DESCRIPTION:https://aviafan.ru/articles/rodilsya-letchik-shturmovik-sidyaki
 n-vasilij-pavlovich
URL:https://aviafan.ru/articles/rodilsya-letchik-shturmovik-sidyakin-vasili
 j-pavlovich
DTSTART;VALUE=DATE:19220419
RRULE:FREQ=YEARLY
FBTYPE:FREE
END:VEVENT
END:VCALENDAR
