BEGIN:VCALENDAR
PRODID:-//eluceo/ical//2.0/EN
VERSION:2.0
CALSCALE:GREGORIAN
BEGIN:VEVENT
UID:a6c36b46-8b82-5057-9275-511d4dc54fc8
DTSTAMP:20260423T095902Z
SUMMARY:Родился летчик-штурмовик  Н.И. Родин
DESCRIPTION:https://aviafan.ru/articles/rodilsya-letchik-shturmovik-ni-rodi
 n
URL:https://aviafan.ru/articles/rodilsya-letchik-shturmovik-ni-rodin
DTSTART;VALUE=DATE:19230423
RRULE:FREQ=YEARLY
FBTYPE:FREE
END:VEVENT
END:VCALENDAR
