BEGIN:VCALENDAR
PRODID:-//eluceo/ical//2.0/EN
VERSION:2.0
CALSCALE:GREGORIAN
BEGIN:VEVENT
UID:86c3b95e-60f0-546e-beda-6e7035974d44
DTSTAMP:20260423T100012Z
SUMMARY:Родился летчик-истребитель В.Е. Бонд
 аренко
DESCRIPTION:https://aviafan.ru/articles/rodilsya-letchik-istrebitel-ve-bond
 arenko
URL:https://aviafan.ru/articles/rodilsya-letchik-istrebitel-ve-bondarenko
DTSTART;VALUE=DATE:19220423
RRULE:FREQ=YEARLY
FBTYPE:FREE
END:VEVENT
END:VCALENDAR
