BEGIN:VCALENDAR
PRODID:-//eluceo/ical//2.0/EN
VERSION:2.0
CALSCALE:GREGORIAN
BEGIN:VEVENT
UID:5063e802-d69c-5830-a227-d5af2813bbe1
DTSTAMP:20260419T103107Z
SUMMARY:Родился летчик-истребитель Шардаков
  Игорь Александрович
DESCRIPTION:https://aviafan.ru/articles/rodilsya-letchik-istrebitel-shardak
 ov-igor-aleksandrovich
URL:https://aviafan.ru/articles/rodilsya-letchik-istrebitel-shardakov-igor-
 aleksandrovich
DTSTART;VALUE=DATE:19220419
RRULE:FREQ=YEARLY
FBTYPE:FREE
END:VEVENT
END:VCALENDAR
